BEGIN:VCALENDAR
VERSION:2.0
PRODID:-//demosphere.net//NONSGML kigkonsult.se iCalcreator 2.22.1//
METHOD:REQUEST
X-WR-TIMEZONE:Europe/Madrid
BEGIN:VEVENT
UID:https://elotrovalladolid.es/evento/172
DTSTAMP:20130423T110000Z
DESCRIPTION:más información aquí: https://elotrovalladolid.es/evento/172
DTSTART:20130423T110000Z
DTEND:20130423T120000Z
GEO:+41.549971;-5.139041
LOCATION:Villalar\, \nVillalar de los Comuneros
SUMMARY:23 de Abril 'Dia Nacional de Castilla' Actividades (carpa de Comuni
 stas de Castilla)
URL:https://elotrovalladolid.es/evento/172
END:VEVENT
END:VCALENDAR
