BEGIN:VCALENDAR
VERSION:2.0
PRODID:-//demosphere.net//NONSGML kigkonsult.se iCalcreator 2.22.1//
METHOD:REQUEST
X-WR-TIMEZONE:Europe/Madrid
BEGIN:VEVENT
UID:https://elotrovalladolid.es/evento/173
DTSTAMP:20130422T193000Z
DESCRIPTION:más información aquí: https://elotrovalladolid.es/evento/173
DTSTART:20130422T193000Z
DTEND:20130422T203000Z
GEO:+41.549971;-5.139041
LOCATION:Villalar\, \nVillalar de los Comuneros
SUMMARY:Actividades previas al 'Dia Nacional de Casilla' (carpa Comunistas 
 de Castilla)
URL:https://elotrovalladolid.es/evento/173
END:VEVENT
END:VCALENDAR
