BEGIN:VCALENDAR
VERSION:2.0
PRODID:-//demosphere.net//NONSGML kigkonsult.se iCalcreator 2.22.1//
METHOD:REQUEST
X-WR-TIMEZONE:Europe/Madrid
BEGIN:VEVENT
UID:https://elotrovalladolid.es/evento/3216
DTSTAMP:20160422T180000Z
DESCRIPTION:más información aquí: https://elotrovalladolid.es/evento/3216
DTSTART:20160422T180000Z
DTEND:20160422T190000Z
GEO:+41.549971;-5.139041
LOCATION:Villalar\, \nVillalar de los Comuneros
SUMMARY:Programa Villalar 2016 [Yesca\, Izca y Mujeres Castellanas]
URL:https://elotrovalladolid.es/evento/3216
END:VEVENT
END:VCALENDAR
