BEGIN:VCALENDAR
VERSION:2.0
PRODID:-//demosphere.net//NONSGML kigkonsult.se iCalcreator 2.22.1//
METHOD:REQUEST
X-WR-TIMEZONE:Europe/Madrid
BEGIN:VEVENT
UID:https://elotrovalladolid.es/evento/3218
DTSTAMP:20160423T101500Z
DESCRIPTION:más información aquí: https://elotrovalladolid.es/evento/3218
DTSTART:20160423T101500Z
DTEND:20160423T111500Z
GEO:+41.549971;-5.139041
LOCATION:Villalar\, \nVillalar de los Comuneros
SUMMARY:Ofrenda floral: Villalar 2016 [Unidad Popular + IU]
URL:https://elotrovalladolid.es/evento/3218
END:VEVENT
END:VCALENDAR
