BEGIN:VCALENDAR
VERSION:2.0
PRODID:-//demosphere.net//NONSGML kigkonsult.se iCalcreator 2.22.1//
METHOD:REQUEST
X-WR-TIMEZONE:Europe/Madrid
BEGIN:VEVENT
UID:https://elotrovalladolid.es/evento/3219
DTSTAMP:20160422T183000Z
DESCRIPTION:más información aquí: https://elotrovalladolid.es/evento/3219
DTSTART:20160422T183000Z
DTEND:20160422T193000Z
GEO:+41.549971;-5.139041
LOCATION:Villalar\, \nVillalar de los Comuneros
SUMMARY:Programa Villalar 2016 [PCE + UJCE]
URL:https://elotrovalladolid.es/evento/3219
END:VEVENT
END:VCALENDAR
