BEGIN:VCALENDAR
VERSION:2.0
PRODID:-//demosphere.net//NONSGML kigkonsult.se iCalcreator 2.22.1//
METHOD:REQUEST
X-WR-TIMEZONE:Europe/Madrid
BEGIN:VEVENT
UID:https://elotrovalladolid.es/evento/3222
DTSTAMP:20160423T140000Z
DESCRIPTION:más información aquí: https://elotrovalladolid.es/evento/3222
DTSTART:20160423T140000Z
DTEND:20160423T150000Z
GEO:+41.549971;-5.139041
LOCATION:Villalar\, \nVillalar de los Comuneros
SUMMARY:Programa Villalar 2016 [Comunistas de Castilla]
URL:https://elotrovalladolid.es/evento/3222
END:VEVENT
END:VCALENDAR
