BEGIN:VCALENDAR
VERSION:2.0
PRODID:-//demosphere.net//NONSGML kigkonsult.se iCalcreator 2.22.1//
METHOD:REQUEST
X-WR-TIMEZONE:Europe/Madrid
BEGIN:VEVENT
UID:https://elotrovalladolid.es/evento/4124
DTSTAMP:20170423T080000Z
DESCRIPTION:más información aquí: https://elotrovalladolid.es/evento/4124
DTSTART:20170423T080000Z
DTEND:20170423T090000Z
GEO:+41.549971;-5.139041
LOCATION:Villalar\, \nVillalar de los Comuneros
SUMMARY:[#30DEB] A Villalar en bici (La CURVA)
URL:https://elotrovalladolid.es/evento/4124
END:VEVENT
END:VCALENDAR
