BEGIN:VCALENDAR
VERSION:2.0
PRODID:-//demosphere.net//NONSGML kigkonsult.se iCalcreator 2.22.1//
METHOD:REQUEST
X-WR-TIMEZONE:Europe/Madrid
BEGIN:VEVENT
UID:https://elotrovalladolid.es/evento/7740
DTSTAMP:20260423T090000Z
DESCRIPTION:más información aquí: https://elotrovalladolid.es/evento/7740
DTSTART:20260423T090000Z
DTEND:20260423T100000Z
GEO:+41.549971;-5.139041
LOCATION:Villalar\, \nVillalar de los Comuneros
SUMMARY:Villalar 2026: Se hace camino al despertar CNT
URL:https://elotrovalladolid.es/evento/7740
END:VEVENT
END:VCALENDAR
