BEGIN:VCALENDAR
VERSION:2.0
PRODID:-//demosphere.net//NONSGML kigkonsult.se iCalcreator 2.22.1//
METHOD:REQUEST
X-WR-TIMEZONE:Europe/Madrid
BEGIN:VEVENT
UID:https://elotrovalladolid.es/evento/7744
DTSTAMP:20260423T180000Z
DESCRIPTION:más información aquí: https://elotrovalladolid.es/evento/7744
DTSTART:20260423T180000Z
DTEND:20260423T190000Z
GEO:+41.655576;-4.728821
LOCATION:Valladolid\, \nCasa de las Palabras (CGT) \nC/ San Ignacio 9 \nVal
 ladolid
SUMMARY:Jornadas Libertarias 2026: Las miserias del nacionalismo
URL:https://elotrovalladolid.es/evento/7744
END:VEVENT
END:VCALENDAR
