BEGIN:VCALENDAR
VERSION:2.0
PRODID:-//demosphere.net//NONSGML kigkonsult.se iCalcreator 2.22.1//
METHOD:REQUEST
X-WR-TIMEZONE:Europe/Madrid
BEGIN:VEVENT
UID:https://elotrovalladolid.es/evento/7747
DTSTAMP:20260422T170000Z
DESCRIPTION:más información aquí: https://elotrovalladolid.es/evento/7747
DTSTART:20260422T170000Z
DTEND:20260422T180000Z
GEO:+41.655576;-4.728821
LOCATION:Valladolid\, \nCasa de las Palabras (CGT) \nC/ San Ignacio 9 \nVal
 ladolid
SUMMARY:Jornadas Libertarias 2026: Exposición A pesar de todo: Historia de 
 la revista Amor y Rabia
URL:https://elotrovalladolid.es/evento/7747
END:VEVENT
END:VCALENDAR
