BEGIN:VCALENDAR
VERSION:2.0
PRODID:-//demosphere.net//NONSGML kigkonsult.se iCalcreator 2.22.1//
METHOD:REQUEST
X-WR-TIMEZONE:Europe/Madrid
BEGIN:VEVENT
UID:https://elotrovalladolid.es/evento/7753
DTSTAMP:20260523T093000Z
DESCRIPTION:más información aquí: https://elotrovalladolid.es/evento/7753
DTSTART:20260523T093000Z
DTEND:20260523T103000Z
LOCATION:Valladolid\, \nEn la sede de la Federación de Asociaciones Vecinal
 es CL/Vega\, 18 BJ
SUMMARY:V Jornada Memoria Histórica y Represión Franquista: La impunidad de
 l silencio.
URL:https://elotrovalladolid.es/evento/7753
END:VEVENT
END:VCALENDAR
